Package: fgsea Version: 1.35.8 Command: /home/biocbuild/bbs-3.22-bioc/R/bin/R CMD build --keep-empty-dirs --no-resave-data --md5 fgsea StartedAt: 2025-10-10 17:48:53 -0400 (Fri, 10 Oct 2025) EndedAt: 2025-10-10 17:57:06 -0400 (Fri, 10 Oct 2025) EllapsedTime: 493.6 seconds RetCode: 0 Status: OK PackageFile: fgsea_1.35.8.tar.gz PackageFileSize: 5.882 MiB