Package: ffpe Version: 1.53.0 Command: /home/biocbuild/bbs-3.22-bioc/R/bin/R CMD INSTALL ffpe StartedAt: 2025-10-09 16:05:16 -0400 (Thu, 09 Oct 2025) EndedAt: 2025-10-09 16:06:00 -0400 (Thu, 09 Oct 2025) EllapsedTime: 44.1 seconds RetCode: 0 Status: OK