Package: ffpe Version: 1.53.0 Command: /home/biocbuild/bbs-3.22-bioc/R/bin/R CMD build --keep-empty-dirs --no-resave-data --md5 ffpe StartedAt: 2025-10-09 17:41:52 -0400 (Thu, 09 Oct 2025) EndedAt: 2025-10-09 17:43:03 -0400 (Thu, 09 Oct 2025) EllapsedTime: 71.1 seconds RetCode: 0 Status: OK PackageFile: ffpe_1.53.0.tar.gz PackageFileSize: 268.5 KiB