Package: fenr Version: 1.9.0 Command: /home/biocbuild/bbs-3.23-bioc/R/bin/R CMD INSTALL fenr StartedAt: 2025-11-20 15:08:44 -0500 (Thu, 20 Nov 2025) EndedAt: 2025-11-20 15:08:47 -0500 (Thu, 20 Nov 2025) EllapsedTime: 3.1 seconds RetCode: 0 Status: OK