Package: fenr Version: 1.9.0 Command: /home/biocbuild/bbs-3.23-bioc/R/bin/R CMD build --keep-empty-dirs --no-resave-data fenr StartedAt: 2025-11-20 17:37:07 -0500 (Thu, 20 Nov 2025) EndedAt: 2025-11-20 17:37:31 -0500 (Thu, 20 Nov 2025) EllapsedTime: 24.0 seconds RetCode: 0 Status: OK PackageFile: fenr_1.9.0.tar.gz PackageFileSize: 1.997 MiB