Package: fenr Version: 1.7.1 Command: /Library/Frameworks/R.framework/Resources/bin/R CMD INSTALL fenr StartedAt: 2025-10-22 15:12:13 -0400 (Wed, 22 Oct 2025) EndedAt: 2025-10-22 15:12:37 -0400 (Wed, 22 Oct 2025) EllapsedTime: 24.0 seconds RetCode: 0 Status: OK