Package: fenr Version: 1.7.1 Command: /Library/Frameworks/R.framework/Resources/bin/R CMD INSTALL fenr StartedAt: 2025-10-03 15:05:29 -0400 (Fri, 03 Oct 2025) EndedAt: 2025-10-03 15:05:31 -0400 (Fri, 03 Oct 2025) EllapsedTime: 1.6 seconds RetCode: 0 Status: OK