Package: fenr Version: 1.7.1 Command: /Library/Frameworks/R.framework/Resources/bin/R CMD build --keep-empty-dirs --no-resave-data fenr StartedAt: 2025-10-03 16:23:13 -0400 (Fri, 03 Oct 2025) EndedAt: 2025-10-03 16:23:24 -0400 (Fri, 03 Oct 2025) EllapsedTime: 11.1 seconds RetCode: 0 Status: OK PackageFile: fenr_1.7.1.tar.gz PackageFileSize: 1.996 MiB