Package: fedup Version: 1.19.0 Command: /home/biocbuild/bbs-3.23-bioc/R/bin/R CMD build --keep-empty-dirs --no-resave-data fedup StartedAt: 2025-11-20 17:37:03 -0500 (Thu, 20 Nov 2025) EndedAt: 2025-11-20 17:38:23 -0500 (Thu, 20 Nov 2025) EllapsedTime: 80.1 seconds RetCode: 0 Status: OK PackageFile: fedup_1.19.0.tar.gz PackageFileSize: 4.699 MiB