Package: fedup Version: 1.19.0 Command: /Library/Frameworks/R.framework/Resources/bin/R CMD INSTALL fedup StartedAt: 2025-11-21 15:19:05 -0500 (Fri, 21 Nov 2025) EndedAt: 2025-11-21 15:19:22 -0500 (Fri, 21 Nov 2025) EllapsedTime: 16.6 seconds RetCode: 0 Status: OK