Package: fedup Version: 1.19.0 Command: /Library/Frameworks/R.framework/Resources/bin/R CMD build --keep-empty-dirs --no-resave-data fedup StartedAt: 2025-11-21 17:00:30 -0500 (Fri, 21 Nov 2025) EndedAt: 2025-11-21 17:02:14 -0500 (Fri, 21 Nov 2025) EllapsedTime: 103.0 seconds RetCode: 0 Status: OK PackageFile: fedup_1.19.0.tar.gz PackageFileSize: 4.701 MiB