Package: fedup Version: 1.17.0 Command: /Library/Frameworks/R.framework/Resources/bin/R CMD INSTALL fedup StartedAt: 2025-10-26 15:07:00 -0400 (Sun, 26 Oct 2025) EndedAt: 2025-10-26 15:07:04 -0400 (Sun, 26 Oct 2025) EllapsedTime: 4.4 seconds RetCode: 0 Status: OK