Package: fedup Version: 1.17.0 Command: rm -rf fedup.buildbin-libdir && mkdir fedup.buildbin-libdir && /Users/biocbuild/BBS/utils/build-universal.sh fedup_1.17.0.tar.gz /Library/Frameworks/R.framework/Resources/bin/R fedup.buildbin-libdir StartedAt: 2025-10-24 23:02:53 -0400 (Fri, 24 Oct 2025) EndedAt: 2025-10-24 23:02:58 -0400 (Fri, 24 Oct 2025) EllapsedTime: 5.1 seconds RetCode: 0 Status: OK PackageFile: fedup_1.17.0.tgz PackageFileSize: 4.438 MiB