Package: fdrame Version: 1.81.0 Command: /home/biocbuild/R/R/bin/R CMD build --keep-empty-dirs --no-resave-data fdrame StartedAt: 2025-10-20 23:45:30 -0000 (Mon, 20 Oct 2025) EndedAt: 2025-10-20 23:45:39 -0000 (Mon, 20 Oct 2025) EllapsedTime: 9.0 seconds RetCode: 0 Status: OK PackageFile: fdrame_1.81.0.tar.gz PackageFileSize: 962.4 KiB