Package: fdrame Version: 1.81.0 Command: chmod a+r fdrame -R && F:\biocbuild\bbs-3.22-bioc\R\bin\R.exe CMD build --keep-empty-dirs --no-resave-data fdrame StartedAt: 2025-08-14 20:09:23 -0400 (Thu, 14 Aug 2025) EndedAt: 2025-08-14 20:09:39 -0400 (Thu, 14 Aug 2025) EllapsedTime: 16.0 seconds RetCode: 0 Status: OK PackageFile: fdrame_1.81.0.tar.gz PackageFileSize: 915.3 KiB