Package: fdrame Version: 1.81.0 Command: rm -rf fdrame.buildbin-libdir && mkdir fdrame.buildbin-libdir && F:\biocbuild\bbs-3.22-bioc\R\bin\R.exe CMD INSTALL --build --library=fdrame.buildbin-libdir fdrame_1.81.0.tar.gz StartedAt: 2025-08-15 10:15:59 -0400 (Fri, 15 Aug 2025) EndedAt: 2025-08-15 10:16:12 -0400 (Fri, 15 Aug 2025) EllapsedTime: 13.3 seconds RetCode: 0 Status: OK PackageFile: fdrame_1.81.0.zip PackageFileSize: 976.7 KiB