Package: fdrame Version: 1.83.0 Command: /home/biocbuild/bbs-3.23-bioc/R/bin/R CMD INSTALL fdrame StartedAt: 2025-11-20 15:04:04 -0500 (Thu, 20 Nov 2025) EndedAt: 2025-11-20 15:04:31 -0500 (Thu, 20 Nov 2025) EllapsedTime: 27.7 seconds RetCode: 0 Status: OK