Package: fdrame Version: 1.83.0 Command: /home/biocbuild/bbs-3.23-bioc/R/bin/R CMD check --install=check:fdrame.install-out.txt --library=/home/biocbuild/bbs-3.23-bioc/R/site-library --timings fdrame_1.83.0.tar.gz StartedAt: 2025-11-20 23:33:44 -0500 (Thu, 20 Nov 2025) EndedAt: 2025-11-20 23:34:05 -0500 (Thu, 20 Nov 2025) EllapsedTime: 21.0 seconds RetCode: 0 Status: OK CheckDir: fdrame.Rcheck Warnings: 0