Package: fdrame Version: 1.83.0 Command: /home/biocbuild/bbs-3.23-bioc/R/bin/R CMD build --keep-empty-dirs --no-resave-data fdrame StartedAt: 2025-11-20 17:36:49 -0500 (Thu, 20 Nov 2025) EndedAt: 2025-11-20 17:36:54 -0500 (Thu, 20 Nov 2025) EllapsedTime: 5.0 seconds RetCode: 0 Status: OK PackageFile: fdrame_1.83.0.tar.gz PackageFileSize: 972.2 KiB