Package: fcScan Version: 1.23.0 Command: /home/biocbuild/R/R/bin/R CMD INSTALL fcScan StartedAt: 2025-10-23 21:04:06 -0000 (Thu, 23 Oct 2025) EndedAt: 2025-10-23 21:04:54 -0000 (Thu, 23 Oct 2025) EllapsedTime: 48.1 seconds RetCode: 0 Status: OK