Package: fcScan Version: 1.23.0 Command: /home/biocbuild/R/R/bin/R CMD build --keep-empty-dirs --no-resave-data fcScan StartedAt: 2025-10-20 23:45:22 -0000 (Mon, 20 Oct 2025) EndedAt: 2025-10-20 23:46:36 -0000 (Mon, 20 Oct 2025) EllapsedTime: 74.1 seconds RetCode: 0 Status: OK PackageFile: fcScan_1.23.0.tar.gz PackageFileSize: 267.9 KiB