Package: fcScan Version: 1.23.0 Command: /home/biocbuild/bbs-3.22-bioc/R/bin/R CMD check --install=check:fcScan.install-out.txt --library=/home/biocbuild/bbs-3.22-bioc/R/site-library --timings fcScan_1.23.0.tar.gz StartedAt: 2025-10-12 23:49:34 -0400 (Sun, 12 Oct 2025) EndedAt: 2025-10-12 23:54:37 -0400 (Sun, 12 Oct 2025) EllapsedTime: 302.5 seconds RetCode: 0 Status: OK CheckDir: fcScan.Rcheck Warnings: 0