Package: fcScan Version: 1.25.0 Command: /home/biocbuild/bbs-3.23-bioc/R/bin/R CMD INSTALL fcScan StartedAt: 2025-11-04 15:39:45 -0500 (Tue, 04 Nov 2025) EndedAt: 2025-11-04 15:40:23 -0500 (Tue, 04 Nov 2025) EllapsedTime: 38.1 seconds RetCode: 0 Status: OK