Package: fcScan Version: 1.25.0 Command: /home/biocbuild/bbs-3.23-bioc/R/bin/R CMD check --install=check:fcScan.install-out.txt --library=/home/biocbuild/bbs-3.23-bioc/R/site-library --timings fcScan_1.25.0.tar.gz StartedAt: 2025-11-25 23:35:55 -0500 (Tue, 25 Nov 2025) EndedAt: 2025-11-25 23:40:47 -0500 (Tue, 25 Nov 2025) EllapsedTime: 292.4 seconds RetCode: 0 Status: OK CheckDir: fcScan.Rcheck Warnings: 0