Package: fcScan Version: 1.25.0 Command: /home/biocbuild/bbs-3.23-bioc/R/bin/R CMD build --keep-empty-dirs --no-resave-data fcScan StartedAt: 2025-11-04 17:32:04 -0500 (Tue, 04 Nov 2025) EndedAt: 2025-11-04 17:32:56 -0500 (Tue, 04 Nov 2025) EllapsedTime: 52.1 seconds RetCode: 0 Status: OK PackageFile: fcScan_1.25.0.tar.gz PackageFileSize: 241.8 KiB