Package: fastseg Version: 1.55.0 Command: /home/biocbuild/R/R/bin/R CMD INSTALL fastseg StartedAt: 2025-10-09 21:18:30 -0000 (Thu, 09 Oct 2025) EndedAt: 2025-10-09 21:18:47 -0000 (Thu, 09 Oct 2025) EllapsedTime: 17.0 seconds RetCode: 0 Status: OK