Package: fastseg Version: 1.55.0 Command: /home/biocbuild/R/R/bin/R CMD build --keep-empty-dirs --no-resave-data fastseg StartedAt: 2025-10-10 00:31:55 -0000 (Fri, 10 Oct 2025) EndedAt: 2025-10-10 00:32:49 -0000 (Fri, 10 Oct 2025) EllapsedTime: 54.1 seconds RetCode: 0 Status: OK PackageFile: fastseg_1.55.0.tar.gz PackageFileSize: 544.9 KiB