Package: fastseg Version: 1.55.0 Command: rm -rf fastseg.buildbin-libdir && mkdir fastseg.buildbin-libdir && F:\biocbuild\bbs-3.22-bioc\R\bin\R.exe CMD INSTALL --build --library=fastseg.buildbin-libdir fastseg_1.55.0.tar.gz StartedAt: 2025-08-15 10:15:53 -0400 (Fri, 15 Aug 2025) EndedAt: 2025-08-15 10:16:14 -0400 (Fri, 15 Aug 2025) EllapsedTime: 20.8 seconds RetCode: 0 Status: OK PackageFile: fastseg_1.55.0.zip PackageFileSize: 520.3 KiB