Package: fastseg Version: 1.57.0 Command: /home/biocbuild/bbs-3.23-bioc/R/bin/R CMD check --install=check:fastseg.install-out.txt --library=/home/biocbuild/bbs-3.23-bioc/R/site-library --timings fastseg_1.57.0.tar.gz StartedAt: 2025-11-06 23:18:13 -0500 (Thu, 06 Nov 2025) EndedAt: 2025-11-06 23:19:41 -0500 (Thu, 06 Nov 2025) EllapsedTime: 88.1 seconds RetCode: 0 Status: OK CheckDir: fastseg.Rcheck Warnings: 0