Package: fastreeR Version: 1.99.4 Command: /home/biocbuild/R/R/bin/R CMD build --keep-empty-dirs --no-resave-data fastreeR StartedAt: 2025-10-20 23:44:44 -0000 (Mon, 20 Oct 2025) EndedAt: 2025-10-20 23:45:40 -0000 (Mon, 20 Oct 2025) EllapsedTime: 56.0 seconds RetCode: 0 Status: OK PackageFile: fastreeR_1.99.4.tar.gz PackageFileSize: 2.868 MiB