Package: fastreeR Version: 1.99.8 Command: /home/biocbuild/bbs-3.22-bioc/R/bin/R CMD check --install=check:fastreeR.install-out.txt --library=/home/biocbuild/bbs-3.22-bioc/R/site-library --timings fastreeR_1.99.8.tar.gz StartedAt: 2025-10-22 23:50:48 -0400 (Wed, 22 Oct 2025) EndedAt: 2025-10-22 23:53:00 -0400 (Wed, 22 Oct 2025) EllapsedTime: 132.2 seconds RetCode: 0 Status: OK CheckDir: fastreeR.Rcheck Warnings: 0