Package: fastreeR Version: 2.1.0 Command: /home/biocbuild/bbs-3.23-bioc/R/bin/R CMD INSTALL fastreeR StartedAt: 2025-10-31 15:14:55 -0400 (Fri, 31 Oct 2025) EndedAt: 2025-10-31 15:15:34 -0400 (Fri, 31 Oct 2025) EllapsedTime: 38.4 seconds RetCode: 0 Status: OK