Package: fastreeR Version: 2.1.0 Command: /home/biocbuild/bbs-3.23-bioc/R/bin/R CMD build --keep-empty-dirs --no-resave-data fastreeR StartedAt: 2025-10-31 17:46:22 -0400 (Fri, 31 Oct 2025) EndedAt: 2025-10-31 17:48:21 -0400 (Fri, 31 Oct 2025) EllapsedTime: 118.1 seconds RetCode: 0 Status: OK PackageFile: fastreeR_2.1.0.tar.gz PackageFileSize: 3.687 MiB