Package: fastreeR Version: 1.99.4 Command: /Library/Frameworks/R.framework/Resources/bin/R CMD INSTALL fastreeR StartedAt: 2025-09-30 15:09:01 -0400 (Tue, 30 Sep 2025) EndedAt: 2025-09-30 15:09:52 -0400 (Tue, 30 Sep 2025) EllapsedTime: 51.7 seconds RetCode: 0 Status: OK