Package: fastreeR Version: 1.99.4 Command: /Library/Frameworks/R.framework/Resources/bin/R CMD build --keep-empty-dirs --no-resave-data fastreeR StartedAt: 2025-09-30 16:57:52 -0400 (Tue, 30 Sep 2025) EndedAt: 2025-09-30 16:58:59 -0400 (Tue, 30 Sep 2025) EllapsedTime: 66.3 seconds RetCode: 0 Status: OK PackageFile: fastreeR_1.99.4.tar.gz PackageFileSize: 2.853 MiB