Package: fastreeR Version: 1.99.4 Command: rm -rf fastreeR.buildbin-libdir && mkdir fastreeR.buildbin-libdir && /Users/biocbuild/BBS/utils/build-universal.sh fastreeR_1.99.4.tar.gz /Library/Frameworks/R.framework/Resources/bin/R fastreeR.buildbin-libdir StartedAt: 2025-10-01 01:42:18 -0400 (Wed, 01 Oct 2025) EndedAt: 2025-10-01 01:42:25 -0400 (Wed, 01 Oct 2025) EllapsedTime: 7.0 seconds RetCode: 0 Status: OK PackageFile: fastreeR_1.99.4.tgz PackageFileSize: 2.903 MiB