Package: fastreeR Version: 1.99.4 Maintainer: Anestis Gkanogiannis MaintainerEmail: anestis at gkanogiannis.com git_url: https://git.bioconductor.org/packages/fastreeR git_branch: devel git_last_commit: 815fd6f git_last_commit_date: 2025-08-08 05:41:53 -0400 (Fri, 08 Aug 2025)