Package: fastLiquidAssociation Version: 1.47.0 Command: /home/biocbuild/bbs-3.23-bioc/R/bin/R CMD build --keep-empty-dirs --no-resave-data fastLiquidAssociation StartedAt: 2025-11-05 17:38:17 -0500 (Wed, 05 Nov 2025) EndedAt: 2025-11-05 17:39:32 -0500 (Wed, 05 Nov 2025) EllapsedTime: 74.1 seconds RetCode: 0 Status: OK PackageFile: fastLiquidAssociation_1.47.0.tar.gz PackageFileSize: 750.3 KiB