Package: fastLiquidAssociation Version: 1.45.0 Command: /Library/Frameworks/R.framework/Resources/bin/R CMD INSTALL fastLiquidAssociation StartedAt: 2025-10-14 15:35:28 -0400 (Tue, 14 Oct 2025) EndedAt: 2025-10-14 15:35:59 -0400 (Tue, 14 Oct 2025) EllapsedTime: 30.7 seconds RetCode: 0 Status: OK