Package: fastLiquidAssociation Version: 1.45.0 Command: rm -rf fastLiquidAssociation.buildbin-libdir && mkdir fastLiquidAssociation.buildbin-libdir && /Users/biocbuild/BBS/utils/build-universal.sh fastLiquidAssociation_1.45.0.tar.gz /Library/Frameworks/R.framework/Resources/bin/R fastLiquidAssociation.buildbin-libdir StartedAt: 2025-10-15 02:44:09 -0400 (Wed, 15 Oct 2025) EndedAt: 2025-10-15 02:44:43 -0400 (Wed, 15 Oct 2025) EllapsedTime: 33.7 seconds RetCode: 0 Status: OK PackageFile: fastLiquidAssociation_1.45.0.tgz PackageFileSize: 660 KiB