Package: fastLiquidAssociation Version: 1.45.0 Command: /Library/Frameworks/R.framework/Resources/bin/R CMD INSTALL fastLiquidAssociation StartedAt: 2025-09-29 15:22:52 -0400 (Mon, 29 Sep 2025) EndedAt: 2025-09-29 15:23:01 -0400 (Mon, 29 Sep 2025) EllapsedTime: 8.9 seconds RetCode: 0 Status: OK