Package: fastLiquidAssociation Version: 1.45.0 Command: /Library/Frameworks/R.framework/Resources/bin/R CMD build --keep-empty-dirs --no-resave-data fastLiquidAssociation StartedAt: 2025-09-29 16:21:50 -0400 (Mon, 29 Sep 2025) EndedAt: 2025-09-29 16:22:22 -0400 (Mon, 29 Sep 2025) EllapsedTime: 32.4 seconds RetCode: 0 Status: OK PackageFile: fastLiquidAssociation_1.45.0.tar.gz PackageFileSize: 750.9 KiB