Package: faers Version: 1.7.0 Command: /home/biocbuild/bbs-3.23-bioc/R/bin/R CMD INSTALL faers StartedAt: 2025-11-20 15:07:37 -0500 (Thu, 20 Nov 2025) EndedAt: 2025-11-20 15:08:05 -0500 (Thu, 20 Nov 2025) EllapsedTime: 28.1 seconds RetCode: 0 Status: OK