Package: faers Version: 1.7.0 Command: /home/biocbuild/bbs-3.23-bioc/R/bin/R CMD build --keep-empty-dirs --no-resave-data faers StartedAt: 2025-11-20 17:35:37 -0500 (Thu, 20 Nov 2025) EndedAt: 2025-11-20 17:36:11 -0500 (Thu, 20 Nov 2025) EllapsedTime: 34.0 seconds RetCode: 0 Status: OK PackageFile: faers_1.7.0.tar.gz PackageFileSize: 2.892 MiB