Package: faers Version: 1.7.0 Command: /Library/Frameworks/R.framework/Resources/bin/R CMD build --keep-empty-dirs --no-resave-data faers StartedAt: 2025-11-20 16:59:45 -0500 (Thu, 20 Nov 2025) EndedAt: 2025-11-20 17:00:17 -0500 (Thu, 20 Nov 2025) EllapsedTime: 32.0 seconds RetCode: 0 Status: OK PackageFile: faers_1.7.0.tar.gz PackageFileSize: 2.891 MiB