Package: faers Version: 1.5.2 Command: rm -rf faers.buildbin-libdir && mkdir faers.buildbin-libdir && /Users/biocbuild/BBS/utils/build-universal.sh faers_1.5.2.tar.gz /Library/Frameworks/R.framework/Resources/bin/R faers.buildbin-libdir StartedAt: 2025-10-24 23:02:44 -0400 (Fri, 24 Oct 2025) EndedAt: 2025-10-24 23:02:48 -0400 (Fri, 24 Oct 2025) EllapsedTime: 3.1 seconds RetCode: 0 Status: OK PackageFile: faers_1.5.2.tgz PackageFileSize: 3.223 MiB