Package: factR Version: 1.13.0 Command: /home/biocbuild/bbs-3.23-bioc/R/bin/R CMD INSTALL factR StartedAt: 2025-11-05 15:46:39 -0500 (Wed, 05 Nov 2025) EndedAt: 2025-11-05 15:46:48 -0500 (Wed, 05 Nov 2025) EllapsedTime: 8.6 seconds RetCode: 0 Status: OK