Package: factR Version: 1.13.0 Command: /home/biocbuild/bbs-3.23-bioc/R/bin/R CMD build --keep-empty-dirs --no-resave-data factR StartedAt: 2025-11-05 17:38:02 -0500 (Wed, 05 Nov 2025) EndedAt: 2025-11-05 17:39:20 -0500 (Wed, 05 Nov 2025) EllapsedTime: 77.2 seconds RetCode: 1 Status: ERROR PackageFile: None PackageFileSize: NA