Package: factR Version: 1.11.0 Command: /Library/Frameworks/R.framework/Resources/bin/R CMD INSTALL factR StartedAt: 2025-10-16 16:02:22 -0400 (Thu, 16 Oct 2025) EndedAt: 2025-10-16 16:02:35 -0400 (Thu, 16 Oct 2025) EllapsedTime: 13.3 seconds RetCode: 0 Status: OK