Package: factR Version: 1.11.0 Command: /Library/Frameworks/R.framework/Resources/bin/R CMD build --keep-empty-dirs --no-resave-data factR StartedAt: 2025-10-17 17:11:09 -0400 (Fri, 17 Oct 2025) EndedAt: 2025-10-17 17:14:46 -0400 (Fri, 17 Oct 2025) EllapsedTime: 216.3 seconds RetCode: 0 Status: OK PackageFile: factR_1.11.0.tar.gz PackageFileSize: 1.838 MiB